BEGIN:VCALENDAR
VERSION:2.0
PRODID:-//eventon.com NONSGML v1.0//EN
CALSCALE:GREGORIAN
METHOD:PUBLISH
BEGIN:VEVENT
UID:69e0b7087ab80
DTSTAMP:20260416T101640Z
DTSTART:20200119T170000Z
DTEND:20200202T213000Z
LOCATION:
SUMMARY:Sunday Show Practice (Crossovers and Advanced Skaters)
DESCRIPTION:Schedule TBD &nbsp;\nhttps://merrillskate.org/events/sunday-sho
 w-practice/
URL:https://merrillskate.org/events/sunday-show-practice/
END:VEVENT
END:VCALENDAR