BEGIN:VCALENDAR
VERSION:2.0
PRODID:-//eventon.com NONSGML v1.0//EN
CALSCALE:GREGORIAN
METHOD:PUBLISH
BEGIN:VEVENT
UID:69e34b1fc45f3
DTSTAMP:20260418T091303Z
DTSTART:20200306T180000Z
DTEND:20200306T193000Z
LOCATION:
SUMMARY:Annual Meeting and Family Skate
DESCRIPTION:Annual Meeting and Family Skate\nhttps://merrillskate.org/event
 s/annual-meeting-and-family-skate-2/
URL:https://merrillskate.org/events/annual-meeting-and-family-skate-2/
END:VEVENT
END:VCALENDAR